BEGIN:VCALENDAR
VERSION:2.0
PRODID:-//Shirat Hayam - ECPv6.15.20//NONSGML v1.0//EN
CALSCALE:GREGORIAN
METHOD:PUBLISH
X-WR-CALNAME:Shirat Hayam
X-ORIGINAL-URL:https://shirathayamnj.org
X-WR-CALDESC:Events for Shirat Hayam
REFRESH-INTERVAL;VALUE=DURATION:PT1H
X-Robots-Tag:noindex
X-PUBLISHED-TTL:PT1H
BEGIN:VTIMEZONE
TZID:America/New_York
BEGIN:DAYLIGHT
TZOFFSETFROM:-0500
TZOFFSETTO:-0400
TZNAME:EDT
DTSTART:20250309T070000
END:DAYLIGHT
BEGIN:STANDARD
TZOFFSETFROM:-0400
TZOFFSETTO:-0500
TZNAME:EST
DTSTART:20251102T060000
END:STANDARD
BEGIN:DAYLIGHT
TZOFFSETFROM:-0500
TZOFFSETTO:-0400
TZNAME:EDT
DTSTART:20260308T070000
END:DAYLIGHT
BEGIN:STANDARD
TZOFFSETFROM:-0400
TZOFFSETTO:-0500
TZNAME:EST
DTSTART:20261101T060000
END:STANDARD
BEGIN:DAYLIGHT
TZOFFSETFROM:-0500
TZOFFSETTO:-0400
TZNAME:EDT
DTSTART:20270314T070000
END:DAYLIGHT
BEGIN:STANDARD
TZOFFSETFROM:-0400
TZOFFSETTO:-0500
TZNAME:EST
DTSTART:20271107T060000
END:STANDARD
END:VTIMEZONE
BEGIN:VEVENT
DTSTART;TZID=America/New_York:20260420T073000
DTEND;TZID=America/New_York:20260424T073000
DTSTAMP:20260423T095549
CREATED:20221201T154420Z
LAST-MODIFIED:20260330T124121Z
UID:21766-1776670200-1777015800@shirathayamnj.org
SUMMARY:Morning Conservative Services
DESCRIPTION:Morning Minyan daily at 7:30 AM (Monday – Friday) \nZoom Link to Service \nPassword: 7116700
URL:https://shirathayamnj.org/event/morning-conservative-services/
LOCATION:Zoom Only
CATEGORIES:Conservative Services,Services
END:VEVENT
BEGIN:VEVENT
DTSTART;TZID=America/New_York:20260420T173000
DTEND;TZID=America/New_York:20260423T173000
DTSTAMP:20260423T095549
CREATED:20221201T155011Z
LAST-MODIFIED:20260330T124212Z
UID:21779-1776706200-1776965400@shirathayamnj.org
SUMMARY:Afternoon Conservative Services
DESCRIPTION:Afternoon Service daily at 5:30 PM (Sunday – Thursday) \nZoom Link to Service \nPassword: 7116700
URL:https://shirathayamnj.org/event/afternoon-conservative-services-2/
LOCATION:Zoom Only
CATEGORIES:Conservative Services,Services
END:VEVENT
BEGIN:VEVENT
DTSTART;TZID=America/New_York:20260423T120000
DTEND;TZID=America/New_York:20260423T120000
DTSTAMP:20260423T095549
CREATED:20260301T154421Z
LAST-MODIFIED:20260301T160119Z
UID:28335-1776945600-1776945600@shirathayamnj.org
SUMMARY:Torah Talk With Rabbi Jacki
DESCRIPTION:Zoom LinkPasscode: DBBSMJ \nAudio only\, phone: 646 558 8656Meeting ID: 4636869470 \nAcharei Mot/K’doshim: Divine Holiness? \nTo sign up for the Torah Talk weekly email produced by Cathy Miskivplease contact Rabbi Jacki at rabbi.menaker@shirathayamnj.org
URL:https://shirathayamnj.org/event/torah-talk-with-rabbi-jacki-12/
LOCATION:Zoom Only
CATEGORIES:Adult Learning,Learning
ATTACH;FMTTYPE=image/png:https://shirathayamnj.org/wp-content/uploads/2026/03/learning-mar-apr-2026.png
END:VEVENT
BEGIN:VEVENT
DTSTART;TZID=America/New_York:20260423T133000
DTEND;TZID=America/New_York:20260423T133000
DTSTAMP:20260423T095549
CREATED:20260301T161616Z
LAST-MODIFIED:20260301T161841Z
UID:28356-1776951000-1776951000@shirathayamnj.org
SUMMARY:Torah Thursdays With Rabbi Kremer
DESCRIPTION:Close looks at Torah text (in English)\, what it says and what it means to us. \nAcharei Mot/K’doshim: Spilled blood; who did the laundry \np>Zoom LinkPasscode: 7116700 \nAudio only\, phone: 646 558 8656Meeting ID: 932976512
URL:https://shirathayamnj.org/event/torah-thursdays-with-rabbi-kremer-108/
LOCATION:Zoom Only
CATEGORIES:Adult Learning,Learning
ATTACH;FMTTYPE=image/png:https://shirathayamnj.org/wp-content/uploads/2026/03/learning-mar-apr-2026.png
END:VEVENT
BEGIN:VEVENT
DTSTART;TZID=America/New_York:20260424T173000
DTEND;TZID=America/New_York:20260424T173000
DTSTAMP:20260423T095549
CREATED:20231110T181251Z
LAST-MODIFIED:20260404T152357Z
UID:23708-1777051800-1777051800@shirathayamnj.org
SUMMARY:Kaballat Shabbat (Conservative)
DESCRIPTION:Zoom Link \nPassword: 7116700 Audio only\, phone: 646 558 8656 Meeting ID: 932976512
URL:https://shirathayamnj.org/event/kabbalat-shabbat-conservative-11/
LOCATION:Zoom Only
CATEGORIES:Conservative Services,Services
END:VEVENT
BEGIN:VEVENT
DTSTART;TZID=America/New_York:20260424T193000
DTEND;TZID=America/New_York:20260424T193000
DTSTAMP:20260423T095549
CREATED:20260309T013423Z
LAST-MODIFIED:20260409T194343Z
UID:28386-1777059000-1777059000@shirathayamnj.org
SUMMARY:Reform Evening Shabbat Services
DESCRIPTION: \nLed by Rabbi Cantor Jacqueline Menaker\nZoom Link \nMeeting ID: 463 686 9470Passcode: DBBSMJ \nIn person and Zoom \nShira Orit will be joining us in person. She  will be offering a D’var Torah in honor of her 80th birthday celebration as well as providing musical accompaniment \nPlease join us! All are welcome! \n\nWe will be praying from Mishkan T’filah: A Reform Siddur for Shabbat and Festivals. \nIn order to more easily participate\, please have your prayer book available. \nTo access the digital version of Mishkan T’filah: A Reform Siddur for Shabbat\, Click here \nClick here for the link to the URJ Ten Minutes of Torah
URL:https://shirathayamnj.org/event/reform-evening-shabbat-services/
LOCATION:Shirat Hayam in person and Zoom
CATEGORIES:Reform Services,Services
END:VEVENT
BEGIN:VEVENT
DTSTART;TZID=America/New_York:20260425T093000
DTEND;TZID=America/New_York:20260425T093000
DTSTAMP:20260423T095549
CREATED:20240819T143943Z
LAST-MODIFIED:20260330T124409Z
UID:25240-1777109400-1777109400@shirathayamnj.org
SUMMARY:Shabbat Morning Service (Conservative)
DESCRIPTION:Conservative Kabbalat Shabbat Services with Rabbi Kremer\nZoom Link \nPassword: 7116700 Audio only\, phone: 646 558 8656 Meeting ID: 932976512
URL:https://shirathayamnj.org/event/shabbat-morning-service-conservative-12/
LOCATION:Shirat Hayam in person and Zoom
CATEGORIES:Conservative Services,Services
END:VEVENT
BEGIN:VEVENT
DTSTART;TZID=America/New_York:20260426T173000
DTEND;TZID=America/New_York:20260426T173000
DTSTAMP:20260423T095549
CREATED:20221201T161045Z
LAST-MODIFIED:20260406T173140Z
UID:21812-1777224600-1777224600@shirathayamnj.org
SUMMARY:Sunday Evening Service
DESCRIPTION:  \nEvening Minyan daily at 5:30 PM Sunday \nZoom Link to Service \nPassword: 7116700
URL:https://shirathayamnj.org/event/sunday-evening-service-2/
LOCATION:Zoom Only
CATEGORIES:Conservative Services,Services
END:VEVENT
BEGIN:VEVENT
DTSTART;TZID=America/New_York:20260427T073000
DTEND;TZID=America/New_York:20260501T073000
DTSTAMP:20260423T095549
CREATED:20221201T154704Z
LAST-MODIFIED:20260404T151446Z
UID:21773-1777275000-1777620600@shirathayamnj.org
SUMMARY:Morning Conservative Services
DESCRIPTION:Morning Minyan daily at 7:30 AM (Monday – Friday) \nZoom Link to Service \nPassword: 7116700
URL:https://shirathayamnj.org/event/morning-conservative-services-3/
LOCATION:Zoom Only
CATEGORIES:Conservative Services,Services
END:VEVENT
BEGIN:VEVENT
DTSTART;TZID=America/New_York:20260427T173000
DTEND;TZID=America/New_York:20260430T173000
DTSTAMP:20260423T095549
CREATED:20221201T155148Z
LAST-MODIFIED:20260404T151519Z
UID:21784-1777311000-1777570200@shirathayamnj.org
SUMMARY:Afternoon Conservative Services
DESCRIPTION:Afternoon Service daily at 5:30 PM (Sunday – Thursday) \nZoom Link to Service \nPassword: 7116700
URL:https://shirathayamnj.org/event/afternoon-conservative-services-3/
LOCATION:Zoom Only
CATEGORIES:Conservative Services,Services
END:VEVENT
BEGIN:VEVENT
DTSTART;TZID=America/New_York:20260430T120000
DTEND;TZID=America/New_York:20260430T120000
DTSTAMP:20260423T095549
CREATED:20260301T154601Z
LAST-MODIFIED:20260301T154606Z
UID:28338-1777550400-1777550400@shirathayamnj.org
SUMMARY:Torah Talk With Rabbi Jacki
DESCRIPTION:Zoom LinkPasscode: DBBSMJ \nAudio only\, phone: 646 558 8656Meeting ID: 4636869470 \nEmor: Divine Offerings? \nTo sign up for the Torah Talk weekly email produced by Cathy Miskiv\nplease contact Rabbi Jacki at rabbi.menaker@shirathayamnj.org
URL:https://shirathayamnj.org/event/torah-talk-with-rabbi-jacki-13/
LOCATION:Zoom Only
CATEGORIES:Adult Learning,Learning
ATTACH;FMTTYPE=image/png:https://shirathayamnj.org/wp-content/uploads/2026/03/learning-mar-apr-2026.png
END:VEVENT
BEGIN:VEVENT
DTSTART;TZID=America/New_York:20260430T133000
DTEND;TZID=America/New_York:20260430T133000
DTSTAMP:20260423T095549
CREATED:20260301T162039Z
LAST-MODIFIED:20260301T162044Z
UID:28361-1777555800-1777555800@shirathayamnj.org
SUMMARY:Torah Thursdays With Rabbi Kremer
DESCRIPTION:Close looks at Torah text (in English)\, what it says and what it means to us. \nEmor: What is it about blasphemy? \np>Zoom LinkPasscode: 7116700 \nAudio only\, phone: 646 558 8656Meeting ID: 932976512
URL:https://shirathayamnj.org/event/torah-thursdays-with-rabbi-kremer-109/
LOCATION:Zoom Only
CATEGORIES:Adult Learning,Learning
ATTACH;FMTTYPE=image/png:https://shirathayamnj.org/wp-content/uploads/2026/03/learning-mar-apr-2026.png
END:VEVENT
BEGIN:VEVENT
DTSTART;TZID=America/New_York:20260501T173000
DTEND;TZID=America/New_York:20260501T173000
DTSTAMP:20260423T095549
CREATED:20250522T143939Z
LAST-MODIFIED:20260411T195230Z
UID:26856-1777656600-1777656600@shirathayamnj.org
SUMMARY:Kabbalat Shabbat
DESCRIPTION:Conservative Kabbalat Shabbat Services with Rabbi Kremer\nZoom Link \nPassword: 7116700\nAudio only\, phone: 646 558 8656\nMeeting ID: 932976512
URL:https://shirathayamnj.org/event/kabbalat-shabbat-2/
LOCATION:Zoom Only
CATEGORIES:Conservative Services,Services
END:VEVENT
BEGIN:VEVENT
DTSTART;TZID=America/New_York:20260501T193000
DTEND;TZID=America/New_York:20260501T193000
DTSTAMP:20260423T095549
CREATED:20250629T154547Z
LAST-MODIFIED:20260404T152307Z
UID:27157-1777663800-1777663800@shirathayamnj.org
SUMMARY:Shabbat Joy Jam
DESCRIPTION:
URL:https://shirathayamnj.org/event/shabbat-joy-jam/
LOCATION:Shirat Hayam in person and Zoom
CATEGORIES:Reform Services,Services
ATTACH;FMTTYPE=image/jpeg:https://shirathayamnj.org/wp-content/uploads/2024/07/shabbatjoy1-1.jpg
END:VEVENT
BEGIN:VEVENT
DTSTART;TZID=America/New_York:20260502T093000
DTEND;TZID=America/New_York:20260502T093000
DTSTAMP:20260423T095549
CREATED:20221103T161845Z
LAST-MODIFIED:20260411T195151Z
UID:21692-1777714200-1777714200@shirathayamnj.org
SUMMARY:Shabbat Morning Service (Conservative)
DESCRIPTION:Shabbat morning Conservative Service at 9:30 a.m with Rabbi Kremer\nZoom Link \nPassword: 7116700\nAudio only\, phone: 646 558 8656\nMeeting ID: 932976512
URL:https://shirathayamnj.org/event/shabbat-morning-service-conservative-2/
LOCATION:Shirat Hayam in person and Zoom
CATEGORIES:Conservative Services,Services
END:VEVENT
BEGIN:VEVENT
DTSTART;TZID=America/New_York:20260503T173000
DTEND;TZID=America/New_York:20260503T173000
DTSTAMP:20260423T095549
CREATED:20241209T153538Z
LAST-MODIFIED:20260414T211744Z
UID:26021-1777829400-1777829400@shirathayamnj.org
SUMMARY:Sunday Evening Service
DESCRIPTION:Evening Minyan daily at 5:30 PM SundayZoom Link to ServicePassword: 7116700
URL:https://shirathayamnj.org/event/sunday-evening-service-6/
LOCATION:Zoom Only
CATEGORIES:Conservative Services,Services
END:VEVENT
BEGIN:VEVENT
DTSTART;TZID=America/New_York:20260504T073000
DTEND;TZID=America/New_York:20260508T073000
DTSTAMP:20260423T095549
CREATED:20210105T205122Z
LAST-MODIFIED:20260411T195014Z
UID:1669-1777879800-1778225400@shirathayamnj.org
SUMMARY:Morning Conservative Services
DESCRIPTION:Morning Minyan daily at 7:30 AM (Monday – Friday) \nZoom Link to Service \nPassword: 7116700
URL:https://shirathayamnj.org/event/morning-minyan/
LOCATION:Zoom Only
CATEGORIES:Conservative Services,Services
END:VEVENT
BEGIN:VEVENT
DTSTART;TZID=America/New_York:20260504T173000
DTEND;TZID=America/New_York:20260507T173000
DTSTAMP:20260423T095550
CREATED:20220707T145046Z
LAST-MODIFIED:20260411T195046Z
UID:20820-1777915800-1778175000@shirathayamnj.org
SUMMARY:Afternoon Conservative Services
DESCRIPTION:Afternoon Service daily at 5:30 PM (Sunday – Thursday) \nZoom Link to Service \nPassword: 7116700
URL:https://shirathayamnj.org/event/afternoon-conservative-services/
LOCATION:Zoom Only
CATEGORIES:Conservative Services,Services
END:VEVENT
BEGIN:VEVENT
DTSTART;TZID=America/New_York:20260508T173000
DTEND;TZID=America/New_York:20260508T173000
DTSTAMP:20260423T095550
CREATED:20250331T141710Z
LAST-MODIFIED:20260421T141604Z
UID:26553-1778261400-1778261400@shirathayamnj.org
SUMMARY:Kabbalat Shabbat (Conservative)
DESCRIPTION:Conservative Kabbalat Shabbat Services with Rabbi Kremer\nZoom Link \nPassword: 7116700\nAudio only\, phone: 646 558 8656\nMeeting ID: 932976512
URL:https://shirathayamnj.org/event/kabbalat-shabbat-conservative-7/
LOCATION:Zoom Only
CATEGORIES:Conservative Services,Services
END:VEVENT
BEGIN:VEVENT
DTSTART;TZID=America/New_York:20260508T193000
DTEND;TZID=America/New_York:20260508T193000
DTSTAMP:20260423T095550
CREATED:20240826T141125Z
LAST-MODIFIED:20260411T195331Z
UID:25256-1778268600-1778268600@shirathayamnj.org
SUMMARY:Reform Evening Shabbat Service
DESCRIPTION:Led by Rabbi Cantor Jacqueline Menaker\nZoom Link \nMeeting ID: 463 686 9470Passcode: DBBSMJ \nIn person and Zoom \nPlease join us! All are welcome! \n\nWe will be praying from Mishkan T’filah: A Reform Siddur for Shabbat and Festivals. \nIn order to more easily participate\, please have your prayer book available. \nTo access the digital version of Mishkan T’filah: A Reform Siddur for Shabbat\, Click here \nClick here for the link to the URJ Ten Minutes of Torah
URL:https://shirathayamnj.org/event/reform-evening-shabbat-service-12/
LOCATION:Shirat Hayam in person and Zoom
CATEGORIES:Reform Services,Services
END:VEVENT
BEGIN:VEVENT
DTSTART;TZID=America/New_York:20260509T093000
DTEND;TZID=America/New_York:20260509T093000
DTSTAMP:20260423T095550
CREATED:20231127T161148Z
LAST-MODIFIED:20260411T195454Z
UID:23768-1778319000-1778319000@shirathayamnj.org
SUMMARY:Shabbat Morning Service (Conservative)
DESCRIPTION:Shabbat morning Conservative Service with Rabbi Kremer\nZoom Link \nPassword: 7116700 Audio only\, phone: 646 558 8656 Meeting ID: 932976512
URL:https://shirathayamnj.org/event/shabbat-morning-service-conservative-7/
LOCATION:Shirat Hayam in person and Zoom
CATEGORIES:Conservative Services,Services
END:VEVENT
BEGIN:VEVENT
DTSTART;TZID=America/New_York:20260510T173000
DTEND;TZID=America/New_York:20260510T173000
DTSTAMP:20260423T095550
CREATED:20251124T143033Z
LAST-MODIFIED:20260421T141927Z
UID:27990-1778434200-1778434200@shirathayamnj.org
SUMMARY:Sunday Evening Service
DESCRIPTION:Evening Minyan daily at 5:30 PM SundayZoom Link to ServicePassword: 7116700
URL:https://shirathayamnj.org/event/sunday-evening-service-7/
LOCATION:Zoom Only
CATEGORIES:Conservative Services,Services
END:VEVENT
BEGIN:VEVENT
DTSTART;TZID=America/New_York:20260511T073000
DTEND;TZID=America/New_York:20260515T073000
DTSTAMP:20260423T095550
CREATED:20221201T154817Z
LAST-MODIFIED:20260421T141407Z
UID:21776-1778484600-1778830200@shirathayamnj.org
SUMMARY:Morning Conservative Services
DESCRIPTION:Morning Minyan daily at 7:30 AM (Monday – Friday) \nZoom Link to Service \nPassword: 7116700
URL:https://shirathayamnj.org/event/morning-conservative-services-4/
LOCATION:Zoom Only
CATEGORIES:Conservative Services,Services
END:VEVENT
BEGIN:VEVENT
DTSTART;TZID=America/New_York:20260511T173000
DTEND;TZID=America/New_York:20260514T173000
DTSTAMP:20260423T095550
CREATED:20221201T155404Z
LAST-MODIFIED:20260421T141500Z
UID:21790-1778520600-1778779800@shirathayamnj.org
SUMMARY:Afternoon Conservative Services
DESCRIPTION:Afternoon Service daily at 5:30 PM (Sunday – Thursday) \nZoom Link to Service \nPassword: 7116700
URL:https://shirathayamnj.org/event/afternoon-conservative-services-5/
LOCATION:Zoom Only
CATEGORIES:Conservative Services,Services
END:VEVENT
BEGIN:VEVENT
DTSTART;TZID=America/New_York:20260515T073000
DTEND;TZID=America/New_York:20260515T120000
DTSTAMP:20260423T095550
CREATED:20260316T152001Z
LAST-MODIFIED:20260316T152005Z
UID:28417-1778830200-1778846400@shirathayamnj.org
SUMMARY:Men's Club Fishing Trip
DESCRIPTION:
URL:https://shirathayamnj.org/event/mens-club-fishing-trip-3/
LOCATION:Margate Harbor
CATEGORIES:Social
ATTACH;FMTTYPE=image/png:https://shirathayamnj.org/wp-content/uploads/2026/03/fishing.png
END:VEVENT
BEGIN:VEVENT
DTSTART;TZID=America/New_York:20260515T193000
DTEND;TZID=America/New_York:20260515T193000
DTSTAMP:20260423T095550
CREATED:20250501T150154Z
LAST-MODIFIED:20260421T141732Z
UID:26665-1778873400-1778873400@shirathayamnj.org
SUMMARY:Reform Evening Shabbat Service
DESCRIPTION:Led by Rabbi Cantor Jacqueline Menaker\nZoom Link \nMeeting ID: 463 686 9470Passcode: DBBSMJ \nIn person and Zoom \nPlease join us! All are welcome! \n\nWe will be praying from Mishkan T’filah: A Reform Siddur for Shabbat and Festivals. \nIn order to more easily participate\, please have your prayer book available. \nTo access the digital version of Mishkan T’filah: A Reform Siddur for Shabbat\, Click here \nClick here for the link to the URJ Ten Minutes of Torah
URL:https://shirathayamnj.org/event/reform-evening-shabbat-service-13/
LOCATION:Zoom Only
CATEGORIES:Reform Services,Services
END:VEVENT
BEGIN:VEVENT
DTSTART;TZID=America/New_York:20260516T093000
DTEND;TZID=America/New_York:20260516T093000
DTSTAMP:20260423T095550
CREATED:20231127T160953Z
LAST-MODIFIED:20260421T141832Z
UID:23763-1778923800-1778923800@shirathayamnj.org
SUMMARY:Shabbat Morning Service (Conservative)
DESCRIPTION:Shabbat morning Conservative Service at 9:30 a.m with Rabbi Kremer\nZoom Link \nPassword: 7116700 Audio only\, phone: 646 558 8656 Meeting ID: 932976512
URL:https://shirathayamnj.org/event/shabbat-morning-service-conservative-6/
LOCATION:Shirat Hayam in person and Zoom
CATEGORIES:Conservative Services,Services
END:VEVENT
BEGIN:VEVENT
DTSTART;TZID=America/New_York:20260529T193000
DTEND;TZID=America/New_York:20260529T193000
DTSTAMP:20260423T095550
CREATED:20260414T211647Z
LAST-MODIFIED:20260414T211652Z
UID:28483-1780083000-1780083000@shirathayamnj.org
SUMMARY:Reform Evening Shabbat Service
DESCRIPTION:Led by Rabbi Cantor Jacqueline Menaker\nPastor Vicky Ney from Margate Community Church will be our guest speaker on Friday\, May 29\, 2026 during the Reform evening Shabbat service at 7:30 PM \nZoom Link \nMeeting ID: 463 686 9470Passcode: DBBSMJ \nIn person and Zoom \nPlease join us! All are welcome! \n\nWe will be praying from Mishkan T’filah: A Reform Siddur for Shabbat and Festivals. \nIn order to more easily participate\, please have your prayer book available. \nTo access the digital version of Mishkan T’filah: A Reform Siddur for Shabbat\, Click here \nClick here for the link to the URJ Ten Minutes of Torah
URL:https://shirathayamnj.org/event/reform-evening-shabbat-service-7/
LOCATION:Shirat Hayam in person and Zoom
CATEGORIES:Reform Services,Services
END:VEVENT
BEGIN:VEVENT
DTSTART;TZID=America/New_York:20260606T110000
DTEND;TZID=America/New_York:20260606T130000
DTSTAMP:20260423T095550
CREATED:20260316T145118Z
LAST-MODIFIED:20260316T145124Z
UID:28391-1780743600-1780750800@shirathayamnj.org
SUMMARY:Shabbat Coffee and Conversation
DESCRIPTION:11:00 AM-1:00 PM\nOn Island Location\nPlease contact Rabbi Jacki to RSVP at\nrabbi.menaker@shirathayamnj.org
URL:https://shirathayamnj.org/event/shabbat-coffee-and-conversation-2/
LOCATION:Member’s Home
CATEGORIES:Reform Services,Services,Social
ATTACH;FMTTYPE=image/png:https://shirathayamnj.org/wp-content/uploads/2026/03/shabbatconversation.png
END:VEVENT
BEGIN:VEVENT
DTSTART;TZID=America/New_York:20260730T193000
DTEND;TZID=America/New_York:20260730T220000
DTSTAMP:20260423T095550
CREATED:20250117T164647Z
LAST-MODIFIED:20260419T153927Z
UID:26185-1785439800-1785448800@shirathayamnj.org
SUMMARY:Summer Concert 2026
DESCRIPTION:GOLD and SILVER level seats are in the permanent sanctuary seating. The first two rows of sanctuary seats are reserved for sponsors. The GOLD level seats are in rows 3 and 4\, The remaining sanctuary seats are for SILVER patrons. General admission seating is behind the sanctuary seating in our social hall. \nAll ticket sales are final. Should you have an issue with seating please call the synagogue office at (609) 822-7116. \nNOTE THAT YOU DO NOT HAVE TO GIVE A TIP TO GIVEBUTTER. TO REMOVE THE TIP AMOUNT OF 15% SIMPLY CLICK ON THE AMOUNT AND ENTER AN AMOUNT OF $0 OR ANY OTHER AMOUNT YOU WOULD LIKE TO ENTER
URL:https://shirathayamnj.org/event/summer-concert-2026/
LOCATION:Shirat Hayam\, Virtual
CATEGORIES:Social
ATTACH;FMTTYPE=image/png:https://shirathayamnj.org/wp-content/uploads/2026/03/concert2026.png
END:VEVENT
END:VCALENDAR